Workbook

Sheet Notes
A1: NOTES
A3: Il est important de ne rien inscrire dans les cases grises car elles sont liées à des formules.
A5: Lorsque vous écrivez vos postes de revenus et de dépenses dans les cases vertes du Budget de caisse - An-1, ces derniers se retranscrivent automatiquerment dans le Budget de caisse An-2 et An-3.
A7: Vos hypothèses de revenus et de coûts doivent être les plus réalistes possibles.
A11: En tout temps, n'hésitez pas à contacter un conseiller de la SADC d'Abitibi-Ouest pour vous aider.
A15: SADC d'Abitibi-Ouest
A16: 80, 12e avenue Est, bureau 202
A17: La Sarre (Québec) J9Z 3K6
A19: Téléphone : 819 333-3113
A20: sadcao@sadcao.com
A21: www.sadcao.com

Sheet Coût et Financement
A1: COÛTS DE DÉPART ET SOURCES DE FINANCEMENT
A4: Coût du projet global | E4: Financement du projet
A6: Exemple de coûts | B6: $ | C6: % | E6: Emprunts court terme | F6: $ | G6: %
A7: Fonds de roulement | B7: 0 | C7: =B7/$B$28 -> #DIV/0! | E7: Marge de crédit | F7: 0 | G7: =F7/$F$28 -> #DIV/0!
A8: Inventaire | B8: 0 | C8: =B8/$B$28 -> #DIV/0! | E8: Prêt 1 | F8: 0 | G8: =F8/$F$28 -> #DIV/0!
A9: Frais notaire, comptable… | B9: 0 | C9: =B9/$B$28 -> #DIV/0! | E9: Prêt 2 | F9: 0 | G9: =F9/$F$28 -> #DIV/0!
A10: Publicité | B10: 0 | C10: =B10/$B$28 -> #DIV/0! | E10: Sous-total | F10: =SUM(F7:F9) -> 0 | G10: =F10/$F$28 -> #DIV/0!
A11: Achat équipements | B11: 0 | C11: =B11/$B$28 -> #DIV/0!
A12: Achat bâtiment | B12: 0 | C12: =B15/$B$28 -> #DIV/0! | E12: Emprunts long terme
B13: 0 | C13: =B16/$B$28 -> #DIV/0! | E13: Prêt 1 | F13: 0 | G13: =F13/$F$28 -> #DIV/0!
B14: 0 | C14: =B17/$B$28 -> #DIV/0! | E14: Prêt 2 | F14: 0 | G14: =F14/$F$28 -> #DIV/0!
B15: 0 | C15: =B18/$B$28 -> #DIV/0! | E15: Prêt 3 | F15: 0 | G15: =F15/$F$28 -> #DIV/0!
B16: 0 | C16: =B19/$B$28 -> #DIV/0! | E16: Sous-total | F16: =SUM(F13:F15) -> 0 | G16: =F16/$F$28 -> #DIV/0!
B17: 0 | C17: =B20/$B$28 -> #DIV/0!
B18: 0 | C18: =B21/$B$28 -> #DIV/0! | E18: Subventions
B19: 0 | C19: =B22/$B$28 -> #DIV/0! | E19: Subvention 1 | F19: 0 | G19: =F19/$F$28 -> #DIV/0!
B20: 0 | C20: =B23/$B$28 -> #DIV/0! | E20: Subvention 2 | F20: 0 | G20: =F20/$F$28 -> #DIV/0!
B21: 0 | C21: =B24/$B$28 -> #DIV/0! | E21: Sous-total | F21: =SUM(F19:F20) -> 0 | G21: =F21/$F$28 -> #DIV/0!
B22: 0 | C22: =B25/$B$28 -> #DIV/0!
B23: 0 | C23: =B26/$B$28 -> #DIV/0! | E23: Mise de fonds
B24: 0 | C24: =B27/$B$28 -> #DIV/0! | E24: En argent | F24: 0 | G24: =F24/$F$28 -> #DIV/0!
B25: 0 | C25: =B28/$B$28 -> #DIV/0! | E25: En actif | F25: 0 | G25: =F25/$F$28 -> #DIV/0!
B26: 0 | C26: =B29/$B$28 -> #DIV/0! | E26: Sous-total | F26: =SUM(F24:F25) -> 0 | G26: =F26/$F$28 -> #DIV/0!
B27: 0 | C27: =B30/$B$28 -> #DIV/0!
A28: Total | B28: =SUM(B7:B27) -> 0 | C28: =B28/$B$28 -> #DIV/0! | E28: Total | F28: =F26+F21+F16+F10 -> 0 | G28: =F28/$F$28 -> #DIV/0!
A32: Note : Le total de la section "Coût projet global" doit être égal au total de la section "Financement"

Sheet Budget de caisse - An 1
C1: BUDGET DE CAISSE - AN 1
C2: Total | D2: JANVIER | E2: FEVRIER | F2: MARS | G2: AVRIL | H2: MAI | I2: JUIN | J2: JUILLET | K2: AOUT | L2: SEPTEMBRE | M2: OCTOBRE | N2: NOVEMBRE | O2: DECEMBRE
A3: ENTRÉES DE FONDS
A5: Revenus d'opération
B6: Revenu A | C6: =SUM(D6:O6) -> 0 | D6: 0 | E6: 0 | F6: 0 | G6: 0 | H6: 0 | I6: 0 | J6: 0 | K6: 0 | L6: 0 | M6: 0 | N6: 0 | O6: 0
B7: Revenu B | C7: =SUM(D7:O7) -> 0 | D7: 0 | E7: 0 | F7: 0 | G7: 0 | H7: 0 | I7: 0 | J7: 0 | K7: 0 | L7: 0 | M7: 0 | N7: 0 | O7: 0
B8: Revenu C | C8: =SUM(D8:O8) -> 0 | D8: 0 | E8: 0 | F8: 0 | G8: 0 | H8: 0 | I8: 0 | J8: 0 | K8: 0 | L8: 0 | M8: 0 | N8: 0 | O8: 0
B9: Revenu D | C9: =SUM(D9:O9) -> 0 | D9: 0 | E9: 0 | F9: 0 | G9: 0 | H9: 0 | I9: 0 | J9: 0 | K9: 0 | L9: 0 | M9: 0 | N9: 0 | O9: 0
B10: Revenu E | C10: =SUM(D10:O10) -> 0 | D10: 0 | E10: 0 | F10: 0 | G10: 0 | H10: 0 | I10: 0 | J10: 0 | K10: 0 | L10: 0 | M10: 0 | N10: 0 | O10: 0
B11: Revenu F | C11: =SUM(D11:O11) -> 0 | D11: 0 | E11: 0 | F11: 0 | G11: 0 | H11: 0 | I11: 0 | J11: 0 | K11: 0 | L11: 0 | M11: 0 | N11: 0 | O11: 0
A13: Sous-total | C13: =SUM(D13:O13) -> 0 | D13: =SUM(D6:D12) -> 0 | E13: =SUM(E6:E12) -> 0 | F13: =SUM(F6:F12) -> 0 | G13: =SUM(G6:G12) -> 0 | H13: =SUM(H6:H12) -> 0 | I13: =SUM(I6:I12) -> 0 | J13: =SUM(J6:J12) -> 0 | K13: =SUM(K6:K12) -> 0 | ... O13: =SUM(O6:O12) -> 0
A15: Autres revenus
B16: Autre | C16: =SUM(D16:O16) -> 0 | D16: 0 | E16: 0 | F16: 0 | G16: 0 | H16: 0 | I16: 0 | J16: 0 | K16: 0 | L16: 0 | M16: 0 | N16: 0 | O16: 0
B17: Autre | C17: =SUM(D17:O17) -> 0 | D17: 0 | E17: 0 | F17: 0 | G17: 0 | H17: 0 | I17: 0 | J17: 0 | K17: 0 | L17: 0 | M17: 0 | N17: 0 | O17: 0
B18: Autre | C18: =SUM(D18:O18) -> 0 | D18: 0 | E18: 0 | F18: 0 | G18: 0 | H18: 0 | I18: 0 | J18: 0 | K18: 0 | L18: 0 | M18: 0 | N18: 0 | O18: 0
B19: Autre | C19: =SUM(D19:O19) -> 0 | D19: 0 | E19: 0 | F19: 0 | G19: 0 | H19: 0 | I19: 0 | J19: 0 | K19: 0 | L19: 0 | M19: 0 | N19: 0 | O19: 0
A21: Sous-total | C21: =SUM(D21:O21) -> 0 | D21: =SUM(D16:D20) -> 0 | E21: =SUM(E16:E20) -> 0 | F21: =SUM(F16:F20) -> 0 | G21: =SUM(G16:G20) -> 0 | H21: =SUM(H16:H20) -> 0 | I21: =SUM(I16:I20) -> 0 | J21: =SUM(J16:J20) -> 0 | K21: =SUM(K16:K20) -> 0 | ... O21: =SUM(O16:O20) -> 0
A23: TOTAL ENTRÉES DE FONDS | C23: =C13+C21 -> 0 | D23: =D13+D21 -> 0 | E23: =E13+E21 -> 0 | F23: =F13+F21 -> 0 | G23: =G13+G21 -> 0 | H23: =H13+H21 -> 0 | I23: =I13+I21 -> 0 | J23: =J13+J21 -> 0 | ... O23: =O13+O21 -> 0
A25: SORTIES DE FONDS
A27: Achat
B28: Achat matières premières | C28: =SUM(D28:O28) -> 0 | D28: 0 | E28: 0 | F28: 0 | G28: 0 | H28: 0 | I28: 0 | J28: 0 | K28: 0 | L28: 0 | M28: 0 | N28: 0 | O28: 0
B29: Achat fournitures | C29: =SUM(D29:O29) -> 0 | D29: 0 | E29: 0 | F29: 0 | G29: 0 | H29: 0 | I29: 0 | J29: 0 | K29: 0 | L29: 0 | M29: 0 | N29: 0 | O29: 0
B30: Transport sur achat | C30: =SUM(D30:O30) -> 0 | D30: 0 | E30: 0 | F30: 0 | G30: 0 | H30: 0 | I30: 0 | J30: 0 | K30: 0 | L30: 0 | M30: 0 | N30: 0 | O30: 0
B31: Autre | C31: =SUM(D31:O31) -> 0 | D31: 0 | E31: 0 | F31: 0 | G31: 0 | H31: 0 | I31: 0 | J31: 0 | K31: 0 | L31: 0 | M31: 0 | N31: 0 | O31: 0
B32: Autre | C32: =SUM(D32:O32) -> 0 | D32: 0 | E32: 0 | F32: 0 | G32: 0 | H32: 0 | I32: 0 | J32: 0 | K32: 0 | L32: 0 | M32: 0 | N32: 0 | O32: 0
B33: Autre | C33: =SUM(D33:O33) -> 0 | D33: 0 | E33: 0 | F33: 0 | G33: 0 | H33: 0 | I33: 0 | J33: 0 | K33: 0 | L33: 0 | M33: 0 | N33: 0 | O33: 0
B34: Autre | C34: =SUM(D34:O34) -> 0 | D34: 0 | E34: 0 | F34: 0 | G34: 0 | H34: 0 | I34: 0 | J34: 0 | K34: 0 | L34: 0 | M34: 0 | N34: 0 | O34: 0
A36: Sous-total | C36: =SUM(D36:O36) -> 0 | D36: =SUM(D28:D35) -> 0 | E36: =SUM(E28:E35) -> 0 | F36: =SUM(F28:F35) -> 0 | G36: =SUM(G28:G35) -> 0 | H36: =SUM(H28:H35) -> 0 | I36: =SUM(I28:I35) -> 0 | J36: =SUM(J28:J35) -> 0 | K36: =SUM(K28:K35) -> 0 | ... O36: =SUM(O28:O35) -> 0
A38: Salaires
B39: Salaires | C39: =SUM(D39:O39) -> 0 | D39: 0 | E39: 0 | F39: 0 | G39: 0 | H39: 0 | I39: 0 | J39: 0 | K39: 0 | L39: 0 | M39: 0 | N39: 0 | O39: 0
B40: Avantages sociaux | C40: =SUM(D40:O40) -> 0 | D40: 0 | E40: 0 | F40: 0 | G40: 0 | H40: 0 | I40: 0 | J40: 0 | K40: 0 | L40: 0 | M40: 0 | N40: 0 | O40: 0
B41: Sous-traitance | C41: =SUM(D41:O41) -> 0 | D41: 0 | E41: 0 | F41: 0 | G41: 0 | H41: 0 | I41: 0 | J41: 0 | K41: 0 | L41: 0 | M41: 0 | N41: 0 | O41: 0
B42: Autre | C42: =SUM(D42:O42) -> 0 | D42: 0 | E42: 0 | F42: 0 | G42: 0 | H42: 0 | I42: 0 | J42: 0 | K42: 0 | L42: 0 | M42: 0 | N42: 0 | O42: 0
A44: Sous-total | C44: =SUM(D44:O44) -> 0 | D44: =SUM(D39:D43) -> 0 | E44: =SUM(E39:E43) -> 0 | F44: =SUM(F39:F43) -> 0 | G44: =SUM(G39:G43) -> 0 | H44: =SUM(H39:H43) -> 0 | I44: =SUM(I39:I43) -> 0 | J44: =SUM(J39:J43) -> 0 | K44: =SUM(K39:K43) -> 0 | ... O44: =SUM(O39:O43) -> 0
A46: Frais généraux
B47: Entretien et réparation | C47: =SUM(D47:O47) -> 0 | D47: 0 | E47: 0 | F47: 0 | G47: 0 | H47: 0 | I47: 0 | J47: 0 | K47: 0 | L47: 0 | M47: 0 | N47: 0 | O47: 0
B48: Location | C48: =SUM(D48:O48) -> 0 | D48: 0 | E48: 0 | F48: 0 | G48: 0 | H48: 0 | I48: 0 | J48: 0 | K48: 0 | L48: 0 | M48: 0 | N48: 0 | O48: 0
B49: Petit outils | C49: =SUM(D49:O49) -> 0 | D49: 0 | E49: 0 | F49: 0 | G49: 0 | H49: 0 | I49: 0 | J49: 0 | K49: 0 | L49: 0 | M49: 0 | N49: 0 | O49: 0
B50: Permis | C50: =SUM(D50:O50) -> 0 | D50: 0 | E50: 0 | F50: 0 | G50: 0 | H50: 0 | I50: 0 | J50: 0 | K50: 0 | L50: 0 | M50: 0 | N50: 0 | O50: 0
B51: Essence | C51: =SUM(D51:O51) -> 0 | D51: 0 | E51: 0 | F51: 0 | G51: 0 | H51: 0 | I51: 0 | J51: 0 | K51: 0 | L51: 0 | M51: 0 | N51: 0 | O51: 0
...

Sheet Budget de caisse - An 2
C1: BUDGET DE CAISSE - AN 2
C2: Total | D2: JANVIER | E2: FEVRIER | F2: MARS | G2: AVRIL | H2: MAI | I2: JUIN | J2: JUILLET | K2: AOUT | L2: SEPTEMBRE | M2: OCTOBRE | N2: NOVEMBRE | O2: DECEMBRE
A3: ENTRÉES DE FONDS
A5: Revenus d'opération
B6: ='Budget de caisse - An 1'!B6 -> Revenu A | C6: =SUM(D6:O6) -> 0 | D6: 0 | E6: 0 | F6: 0 | G6: 0 | H6: 0 | I6: 0 | J6: 0 | K6: 0 | L6: 0 | M6: 0 | N6: 0 | O6: 0
B7: ='Budget de caisse - An 1'!B7 -> Revenu B | C7: =SUM(D7:O7) -> 0 | D7: 0 | E7: 0 | F7: 0 | G7: 0 | H7: 0 | I7: 0 | J7: 0 | K7: 0 | L7: 0 | M7: 0 | N7: 0 | O7: 0
B8: ='Budget de caisse - An 1'!B8 -> Revenu C | C8: =SUM(D8:O8) -> 0 | D8: 0 | E8: 0 | F8: 0 | G8: 0 | H8: 0 | I8: 0 | J8: 0 | K8: 0 | L8: 0 | M8: 0 | N8: 0 | O8: 0
B9: ='Budget de caisse - An 1'!B9 -> Revenu D | C9: =SUM(D9:O9) -> 0 | D9: 0 | E9: 0 | F9: 0 | G9: 0 | H9: 0 | I9: 0 | J9: 0 | K9: 0 | L9: 0 | M9: 0 | N9: 0 | O9: 0
B10: ='Budget de caisse - An 1'!B10 -> Revenu E | C10: =SUM(D10:O10) -> 0 | D10: 0 | E10: 0 | F10: 0 | G10: 0 | H10: 0 | I10: 0 | J10: 0 | K10: 0 | L10: 0 | M10: 0 | N10: 0 | O10: 0
B11: ='Budget de caisse - An 1'!B11 -> Revenu F | C11: =SUM(D11:O11) -> 0 | D11: 0 | E11: 0 | F11: 0 | G11: 0 | H11: 0 | I11: 0 | J11: 0 | K11: 0 | L11: 0 | M11: 0 | N11: 0 | O11: 0
A13: Sous-total | C13: =SUM(D13:O13) -> 0 | D13: =SUM(D6:D12) -> 0 | E13: =SUM(E6:E12) -> 0 | F13: =SUM(F6:F12) -> 0 | G13: =SUM(G6:G12) -> 0 | H13: =SUM(H6:H12) -> 0 | I13: =SUM(I6:I12) -> 0 | J13: =SUM(J6:J12) -> 0 | K13: =SUM(K6:K12) -> 0 | ... O13: =SUM(O6:O12) -> 0
A15: Autres revenus
B16: ='Budget de caisse - An 1'!B16 -> Autre | C16: =SUM(D16:O16) -> 0 | D16: 0 | E16: 0 | F16: 0 | G16: 0 | H16: 0 | I16: 0 | J16: 0 | K16: 0 | L16: 0 | M16: 0 | N16: 0 | O16: 0
B17: ='Budget de caisse - An 1'!B17 -> Autre | C17: =SUM(D17:O17) -> 0 | D17: 0 | E17: 0 | F17: 0 | G17: 0 | H17: 0 | I17: 0 | J17: 0 | K17: 0 | L17: 0 | M17: 0 | N17: 0 | O17: 0
B18: ='Budget de caisse - An 1'!B18 -> Autre | C18: =SUM(D18:O18) -> 0 | D18: 0 | E18: 0 | F18: 0 | G18: 0 | H18: 0 | I18: 0 | J18: 0 | K18: 0 | L18: 0 | M18: 0 | N18: 0 | O18: 0
B19: ='Budget de caisse - An 1'!B19 -> Autre | C19: =SUM(D19:O19) -> 0 | D19: 0 | E19: 0 | F19: 0 | G19: 0 | H19: 0 | I19: 0 | J19: 0 | K19: 0 | L19: 0 | M19: 0 | N19: 0 | O19: 0
A21: Sous-total | C21: =SUM(D21:O21) -> 0 | D21: =SUM(D16:D20) -> 0 | E21: =SUM(E16:E20) -> 0 | F21: =SUM(F16:F20) -> 0 | G21: =SUM(G16:G20) -> 0 | H21: =SUM(H16:H20) -> 0 | I21: =SUM(I16:I20) -> 0 | J21: =SUM(J16:J20) -> 0 | K21: =SUM(K16:K20) -> 0 | ... O21: =SUM(O16:O20) -> 0
A23: TOTAL ENTRÉES DE FONDS | C23: =C13+C21 -> 0 | D23: =D13+D21 -> 0 | E23: =E13+E21 -> 0 | F23: =F13+F21 -> 0 | G23: =G13+G21 -> 0 | H23: =H13+H21 -> 0 | I23: =I13+I21 -> 0 | J23: =J13+J21 -> 0 | ... O23: =O13+O21 -> 0
A25: SORTIES DE FONDS
A27: Achat
B28: ='Budget de caisse - An 1'!B28 -> Achat matières premières | C28: =SUM(D28:O28) -> 0 | D28: 0 | E28: 0 | F28: 0 | G28: 0 | H28: 0 | I28: 0 | J28: 0 | K28: 0 | L28: 0 | M28: 0 | N28: 0 | O28: 0
B29: ='Budget de caisse - An 1'!B29 -> Achat fournitures | C29: =SUM(D29:O29) -> 0 | D29: 0 | E29: 0 | F29: 0 | G29: 0 | H29: 0 | I29: 0 | J29: 0 | K29: 0 | L29: 0 | M29: 0 | N29: 0 | O29: 0
B30: ='Budget de caisse - An 1'!B30 -> Transport sur achat | C30: =SUM(D30:O30) -> 0 | D30: 0 | E30: 0 | F30: 0 | G30: 0 | H30: 0 | I30: 0 | J30: 0 | K30: 0 | L30: 0 | M30: 0 | N30: 0 | O30: 0
B31: ='Budget de caisse - An 1'!B31 -> Autre | C31: =SUM(D31:O31) -> 0 | D31: 0 | E31: 0 | F31: 0 | G31: 0 | H31: 0 | I31: 0 | J31: 0 | K31: 0 | L31: 0 | M31: 0 | N31: 0 | O31: 0
B32: ='Budget de caisse - An 1'!B32 -> Autre | C32: =SUM(D32:O32) -> 0 | D32: 0 | E32: 0 | F32: 0 | G32: 0 | H32: 0 | I32: 0 | J32: 0 | K32: 0 | L32: 0 | M32: 0 | N32: 0 | O32: 0
B33: ='Budget de caisse - An 1'!B33 -> Autre | C33: =SUM(D33:O33) -> 0 | D33: 0 | E33: 0 | F33: 0 | G33: 0 | H33: 0 | I33: 0 | J33: 0 | K33: 0 | L33: 0 | M33: 0 | N33: 0 | O33: 0
B34: ='Budget de caisse - An 1'!B34 -> Autre | C34: =SUM(D34:O34) -> 0 | D34: 0 | E34: 0 | F34: 0 | G34: 0 | H34: 0 | I34: 0 | J34: 0 | K34: 0 | L34: 0 | M34: 0 | N34: 0 | O34: 0
A36: Sous-total | C36: =SUM(D36:O36) -> 0 | D36: =SUM(D28:D35) -> 0 | E36: =SUM(E28:E35) -> 0 | F36: =SUM(F28:F35) -> 0 | G36: =SUM(G28:G35) -> 0 | H36: =SUM(H28:H35) -> 0 | I36: =SUM(I28:I35) -> 0 | J36: =SUM(J28:J35) -> 0 | K36: =SUM(K28:K35) -> 0 | ... O36: =SUM(O28:O35) -> 0
A38: Salaires
B39: ='Budget de caisse - An 1'!B39 -> Salaires | C39: =SUM(D39:O39) -> 0 | D39: 0 | E39: 0 | F39: 0 | G39: 0 | H39: 0 | I39: 0 | J39: 0 | K39: 0 | L39: 0 | M39: 0 | N39: 0 | O39: 0
B40: ='Budget de caisse - An 1'!B40 -> Avantages sociaux | C40: =SUM(D40:O40) -> 0 | D40: 0 | E40: 0 | F40: 0 | G40: 0 | H40: 0 | I40: 0 | J40: 0 | K40: 0 | L40: 0 | M40: 0 | N40: 0 | O40: 0
B41: ='Budget de caisse - An 1'!B41 -> Sous-traitance | C41: =SUM(D41:O41) -> 0 | D41: 0 | E41: 0 | F41: 0 | G41: 0 | H41: 0 | I41: 0 | J41: 0 | K41: 0 | L41: 0 | M41: 0 | N41: 0 | O41: 0
B42: ='Budget de caisse - An 1'!B42 -> Autre | C42: =SUM(D42:O42) -> 0 | D42: 0 | E42: 0 | F42: 0 | G42: 0 | H42: 0 | I42: 0 | J42: 0 | K42: 0 | L42: 0 | M42: 0 | N42: 0 | O42: 0
A44: Sous-total | C44: =SUM(D44:O44) -> 0 | D44: =SUM(D39:D43) -> 0 | E44: =SUM(E39:E43) -> 0 | F44: =SUM(F39:F43) -> 0 | G44: =SUM(G39:G43) -> 0 | H44: =SUM(H39:H43) -> 0 | I44: =SUM(I39:I43) -> 0 | J44: =SUM(J39:J43) -> 0 | K44: =SUM(K39:K43) -> 0 | ... O44: =SUM(O39:O43) -> 0
A46: Frais généraux
B47: ='Budget de caisse - An 1'!B47 -> Entretien et réparation | C47: =SUM(D47:O47) -> 0 | D47: 0 | E47: 0 | F47: 0 | G47: 0 | H47: 0 | I47: 0 | J47: 0 | K47: 0 | L47: 0 | M47: 0 | N47: 0 | O47: 0
B48: ='Budget de caisse - An 1'!B48 -> Location | C48: =SUM(D48:O48) -> 0 | D48: 0 | E48: 0 | F48: 0 | G48: 0 | H48: 0 | I48: 0 | J48: 0 | K48: 0 | L48: 0 | M48: 0 | N48: 0 | O48: 0
B49: ='Budget de caisse - An 1'!B49 -> Petit outils | C49: =SUM(D49:O49) -> 0 | D49: 0 | E49: 0 | F49: 0 | G49: 0 | H49: 0 | I49: 0 | J49: 0 | K49: 0 | L49: 0 | M49: 0 | N49: 0 | O49: 0
B50: ='Budget de caisse - An 1'!B50 -> Permis | C50: =SUM(D50:O50) -> 0 | D50: 0 | E50: 0 | F50: 0 | G50: 0 | H50: 0 | I50: 0 | J50: 0 | K50: 0 | L50: 0 | M50: 0 | N50: 0 | O50: 0
B51: ='Budget de caisse - An 1'!B51 -> Essence | C51: =SUM(D51:O51) -> 0 | D51: 0 | E51: 0 | F51: 0 | G51: 0 | H51: 0 | I51: 0 | J51: 0 | K51: 0 | L51: 0 | M51: 0 | N51: 0 | O51: 0
...

Sheet Budget de caisse - An 3
C1: BUDGET DE CAISSE - AN 3
C2: Total | D2: JANVIER | E2: FEVRIER | F2: MARS | G2: AVRIL | H2: MAI | I2: JUIN | J2: JUILLET | K2: AOUT | L2: SEPTEMBRE | M2: OCTOBRE | N2: NOVEMBRE | O2: DECEMBRE
A3: ENTRÉES DE FONDS
A5: Revenus d'opération
B6: ='Budget de caisse - An 1'!B6 -> Revenu A | C6: =SUM(D6:O6) -> 0 | D6: 0 | E6: 0 | F6: 0 | G6: 0 | H6: 0 | I6: 0 | J6: 0 | K6: 0 | L6: 0 | M6: 0 | N6: 0 | O6: 0
B7: ='Budget de caisse - An 1'!B7 -> Revenu B | C7: =SUM(D7:O7) -> 0 | D7: 0 | E7: 0 | F7: 0 | G7: 0 | H7: 0 | I7: 0 | J7: 0 | K7: 0 | L7: 0 | M7: 0 | N7: 0 | O7: 0
B8: ='Budget de caisse - An 1'!B8 -> Revenu C | C8: =SUM(D8:O8) -> 0 | D8: 0 | E8: 0 | F8: 0 | G8: 0 | H8: 0 | I8: 0 | J8: 0 | K8: 0 | L8: 0 | M8: 0 | N8: 0 | O8: 0
B9: ='Budget de caisse - An 1'!B9 -> Revenu D | C9: =SUM(D9:O9) -> 0 | D9: 0 | E9: 0 | F9: 0 | G9: 0 | H9: 0 | I9: 0 | J9: 0 | K9: 0 | L9: 0 | M9: 0 | N9: 0 | O9: 0
B10: ='Budget de caisse - An 1'!B10 -> Revenu E | C10: =SUM(D10:O10) -> 0 | D10: 0 | E10: 0 | F10: 0 | G10: 0 | H10: 0 | I10: 0 | J10: 0 | K10: 0 | L10: 0 | M10: 0 | N10: 0 | O10: 0
B11: ='Budget de caisse - An 1'!B11 -> Revenu F | C11: =SUM(D11:O11) -> 0 | D11: 0 | E11: 0 | F11: 0 | G11: 0 | H11: 0 | I11: 0 | J11: 0 | K11: 0 | L11: 0 | M11: 0 | N11: 0 | O11: 0
A13: Sous-total | C13: =SUM(D13:O13) -> 0 | D13: =SUM(D6:D12) -> 0 | E13: =SUM(E6:E12) -> 0 | F13: =SUM(F6:F12) -> 0 | G13: =SUM(G6:G12) -> 0 | H13: =SUM(H6:H12) -> 0 | I13: =SUM(I6:I12) -> 0 | J13: =SUM(J6:J12) -> 0 | K13: =SUM(K6:K12) -> 0 | ... O13: =SUM(O6:O12) -> 0
A15: Autres revenus
B16: ='Budget de caisse - An 1'!B16 -> Autre | C16: =SUM(D16:O16) -> 0 | D16: 0 | E16: 0 | F16: 0 | G16: 0 | H16: 0 | I16: 0 | J16: 0 | K16: 0 | L16: 0 | M16: 0 | N16: 0 | O16: 0
B17: ='Budget de caisse - An 1'!B17 -> Autre | C17: =SUM(D17:O17) -> 0 | D17: 0 | E17: 0 | F17: 0 | G17: 0 | H17: 0 | I17: 0 | J17: 0 | K17: 0 | L17: 0 | M17: 0 | N17: 0 | O17: 0
B18: ='Budget de caisse - An 1'!B18 -> Autre | C18: =SUM(D18:O18) -> 0 | D18: 0 | E18: 0 | F18: 0 | G18: 0 | H18: 0 | I18: 0 | J18: 0 | K18: 0 | L18: 0 | M18: 0 | N18: 0 | O18: 0
B19: ='Budget de caisse - An 1'!B19 -> Autre | C19: =SUM(D19:O19) -> 0 | D19: 0 | E19: 0 | F19: 0 | G19: 0 | H19: 0 | I19: 0 | J19: 0 | K19: 0 | L19: 0 | M19: 0 | N19: 0 | O19: 0
A21: Sous-total | C21: =SUM(D21:O21) -> 0 | D21: =SUM(D16:D20) -> 0 | E21: =SUM(E16:E20) -> 0 | F21: =SUM(F16:F20) -> 0 | G21: =SUM(G16:G20) -> 0 | H21: =SUM(H16:H20) -> 0 | I21: =SUM(I16:I20) -> 0 | J21: =SUM(J16:J20) -> 0 | K21: =SUM(K16:K20) -> 0 | ... O21: =SUM(O16:O20) -> 0
A23: TOTAL ENTRÉES DE FONDS | C23: =C13+C21 -> 0 | D23: =D13+D21 -> 0 | E23: =E13+E21 -> 0 | F23: =F13+F21 -> 0 | G23: =G13+G21 -> 0 | H23: =H13+H21 -> 0 | I23: =I13+I21 -> 0 | J23: =J13+J21 -> 0 | ... O23: =O13+O21 -> 0
A25: SORTIES DE FONDS
A27: Achat
B28: ='Budget de caisse - An 1'!B28 -> Achat matières premières | C28: =SUM(D28:O28) -> 0 | D28: 0 | E28: 0 | F28: 0 | G28: 0 | H28: 0 | I28: 0 | J28: 0 | K28: 0 | L28: 0 | M28: 0 | N28: 0 | O28: 0
B29: ='Budget de caisse - An 1'!B29 -> Achat fournitures | C29: =SUM(D29:O29) -> 0 | D29: 0 | E29: 0 | F29: 0 | G29: 0 | H29: 0 | I29: 0 | J29: 0 | K29: 0 | L29: 0 | M29: 0 | N29: 0 | O29: 0
B30: ='Budget de caisse - An 1'!B30 -> Transport sur achat | C30: =SUM(D30:O30) -> 0 | D30: 0 | E30: 0 | F30: 0 | G30: 0 | H30: 0 | I30: 0 | J30: 0 | K30: 0 | L30: 0 | M30: 0 | N30: 0 | O30: 0
B31: ='Budget de caisse - An 1'!B31 -> Autre | C31: =SUM(D31:O31) -> 0 | D31: 0 | E31: 0 | F31: 0 | G31: 0 | H31: 0 | I31: 0 | J31: 0 | K31: 0 | L31: 0 | M31: 0 | N31: 0 | O31: 0
B32: ='Budget de caisse - An 1'!B32 -> Autre | C32: =SUM(D32:O32) -> 0 | D32: 0 | E32: 0 | F32: 0 | G32: 0 | H32: 0 | I32: 0 | J32: 0 | K32: 0 | L32: 0 | M32: 0 | N32: 0 | O32: 0
B33: ='Budget de caisse - An 1'!B33 -> Autre | C33: =SUM(D33:O33) -> 0 | D33: 0 | E33: 0 | F33: 0 | G33: 0 | H33: 0 | I33: 0 | J33: 0 | K33: 0 | L33: 0 | M33: 0 | N33: 0 | O33: 0
B34: ='Budget de caisse - An 1'!B34 -> Autre | C34: =SUM(D34:O34) -> 0 | D34: 0 | E34: 0 | F34: 0 | G34: 0 | H34: 0 | I34: 0 | J34: 0 | K34: 0 | L34: 0 | M34: 0 | N34: 0 | O34: 0
A36: Sous-total | C36: =SUM(D36:O36) -> 0 | D36: =SUM(D28:D35) -> 0 | E36: =SUM(E28:E35) -> 0 | F36: =SUM(F28:F35) -> 0 | G36: =SUM(G28:G35) -> 0 | H36: =SUM(H28:H35) -> 0 | I36: =SUM(I28:I35) -> 0 | J36: =SUM(J28:J35) -> 0 | K36: =SUM(K28:K35) -> 0 | ... O36: =SUM(O28:O35) -> 0
A38: Salaires
B39: ='Budget de caisse - An 1'!B39 -> Salaires | C39: =SUM(D39:O39) -> 0 | D39: 0 | E39: 0 | F39: 0 | G39: 0 | H39: 0 | I39: 0 | J39: 0 | K39: 0 | L39: 0 | M39: 0 | N39: 0 | O39: 0
B40: ='Budget de caisse - An 1'!B40 -> Avantages sociaux | C40: =SUM(D40:O40) -> 0 | D40: 0 | E40: 0 | F40: 0 | G40: 0 | H40: 0 | I40: 0 | J40: 0 | K40: 0 | L40: 0 | M40: 0 | N40: 0 | O40: 0
B41: ='Budget de caisse - An 1'!B41 -> Sous-traitance | C41: =SUM(D41:O41) -> 0 | D41: 0 | E41: 0 | F41: 0 | G41: 0 | H41: 0 | I41: 0 | J41: 0 | K41: 0 | L41: 0 | M41: 0 | N41: 0 | O41: 0
B42: ='Budget de caisse - An 1'!B42 -> Autre | C42: =SUM(D42:O42) -> 0 | D42: 0 | E42: 0 | F42: 0 | G42: 0 | H42: 0 | I42: 0 | J42: 0 | K42: 0 | L42: 0 | M42: 0 | N42: 0 | O42: 0
A44: Sous-total | C44: =SUM(D44:O44) -> 0 | D44: =SUM(D39:D43) -> 0 | E44: =SUM(E39:E43) -> 0 | F44: =SUM(F39:F43) -> 0 | G44: =SUM(G39:G43) -> 0 | H44: =SUM(H39:H43) -> 0 | I44: =SUM(I39:I43) -> 0 | J44: =SUM(J39:J43) -> 0 | K44: =SUM(K39:K43) -> 0 | ... O44: =SUM(O39:O43) -> 0
A46: Frais généraux
B47: ='Budget de caisse - An 1'!B47 -> Entretien et réparation | C47: =SUM(D47:O47) -> 0 | D47: 0 | E47: 0 | F47: 0 | G47: 0 | H47: 0 | I47: 0 | J47: 0 | K47: 0 | L47: 0 | M47: 0 | N47: 0 | O47: 0
B48: ='Budget de caisse - An 1'!B48 -> Location | C48: =SUM(D48:O48) -> 0 | D48: 0 | E48: 0 | F48: 0 | G48: 0 | H48: 0 | I48: 0 | J48: 0 | K48: 0 | L48: 0 | M48: 0 | N48: 0 | O48: 0
B49: ='Budget de caisse - An 1'!B49 -> Petit outils | C49: =SUM(D49:O49) -> 0 | D49: 0 | E49: 0 | F49: 0 | G49: 0 | H49: 0 | I49: 0 | J49: 0 | K49: 0 | L49: 0 | M49: 0 | N49: 0 | O49: 0
B50: ='Budget de caisse - An 1'!B50 -> Permis | C50: =SUM(D50:O50) -> 0 | D50: 0 | E50: 0 | F50: 0 | G50: 0 | H50: 0 | I50: 0 | J50: 0 | K50: 0 | L50: 0 | M50: 0 | N50: 0 | O50: 0
B51: ='Budget de caisse - An 1'!B51 -> Essence | C51: =SUM(D51:O51) -> 0 | D51: 0 | E51: 0 | F51: 0 | G51: 0 | H51: 0 | I51: 0 | J51: 0 | K51: 0 | L51: 0 | M51: 0 | N51: 0 | O51: 0
...
